Package: DEXSeq Version: 1.52.0 Command: /Library/Frameworks/R.framework/Resources/bin/R CMD INSTALL DEXSeq StartedAt: 2025-03-31 17:32:20 -0400 (Mon, 31 Mar 2025) EndedAt: 2025-03-31 17:33:01 -0400 (Mon, 31 Mar 2025) EllapsedTime: 41.1 seconds RetCode: 0 Status: OK