Package: DEXSeq Version: 1.52.0 Command: /Library/Frameworks/R.framework/Resources/bin/R CMD build --keep-empty-dirs --no-resave-data DEXSeq StartedAt: 2025-03-31 22:28:34 -0400 (Mon, 31 Mar 2025) EndedAt: 2025-03-31 22:30:40 -0400 (Mon, 31 Mar 2025) EllapsedTime: 125.9 seconds RetCode: 0 Status: OK PackageFile: DEXSeq_1.52.0.tar.gz PackageFileSize: 1.789 MiB