Package: DEXSeq Version: 1.52.0 Command: rm -rf DEXSeq.buildbin-libdir && mkdir DEXSeq.buildbin-libdir && /Users/biocbuild/BBS/utils/build-universal.sh DEXSeq_1.52.0.tar.gz /Library/Frameworks/R.framework/Resources/bin/R DEXSeq.buildbin-libdir StartedAt: 2025-04-02 14:05:29 -0400 (Wed, 02 Apr 2025) EndedAt: 2025-04-02 14:06:15 -0400 (Wed, 02 Apr 2025) EllapsedTime: 46.4 seconds RetCode: 0 Status: OK PackageFile: DEXSeq_1.52.0.tgz PackageFileSize: 2.214 MiB