Package: DEWSeq Version: 1.20.0 Command: /home/biocbuild/R/R/bin/R CMD check --install=check:DEWSeq.install-out.txt --library=/home/biocbuild/R/R/site-library --no-vignettes --timings DEWSeq_1.20.0.tar.gz StartedAt: 2025-04-01 05:51:43 -0000 (Tue, 01 Apr 2025) EndedAt: 2025-04-01 05:56:52 -0000 (Tue, 01 Apr 2025) EllapsedTime: 309.4 seconds RetCode: 0 Status: OK CheckDir: DEWSeq.Rcheck Warnings: 0