Package: DEWSeq Version: 1.20.0 Command: /home/biocbuild/R/R/bin/R CMD build --keep-empty-dirs --no-resave-data DEWSeq StartedAt: 2025-03-31 23:03:47 -0000 (Mon, 31 Mar 2025) EndedAt: 2025-03-31 23:06:21 -0000 (Mon, 31 Mar 2025) EllapsedTime: 154.1 seconds RetCode: 0 Status: OK PackageFile: DEWSeq_1.20.0.tar.gz PackageFileSize: 3.157 MiB