Package: DEWSeq Version: 1.20.0 Command: chmod a+r DEWSeq -R && F:\biocbuild\bbs-3.20-bioc\R\bin\R.exe CMD build --keep-empty-dirs --no-resave-data DEWSeq StartedAt: 2025-03-31 18:28:16 -0400 (Mon, 31 Mar 2025) EndedAt: 2025-03-31 18:30:48 -0400 (Mon, 31 Mar 2025) EllapsedTime: 152.1 seconds RetCode: 0 Status: OK PackageFile: DEWSeq_1.20.0.tar.gz PackageFileSize: 2.999 MiB