Package: DEWSeq Version: 1.20.0 Command: /Library/Frameworks/R.framework/Resources/bin/R CMD build --keep-empty-dirs --no-resave-data DEWSeq StartedAt: 2025-03-31 22:26:32 -0400 (Mon, 31 Mar 2025) EndedAt: 2025-03-31 22:28:34 -0400 (Mon, 31 Mar 2025) EllapsedTime: 122.7 seconds RetCode: 0 Status: OK PackageFile: DEWSeq_1.20.0.tar.gz PackageFileSize: 3.421 MiB