Package: DESpace Version: 1.6.1 Command: /home/biocbuild/bbs-3.20-bioc/R/bin/R CMD check --install=check:DESpace.install-out.txt --library=/home/biocbuild/bbs-3.20-bioc/R/site-library --timings DESpace_1.6.1.tar.gz StartedAt: 2025-03-31 21:34:10 -0400 (Mon, 31 Mar 2025) EndedAt: 2025-03-31 21:44:47 -0400 (Mon, 31 Mar 2025) EllapsedTime: 637.6 seconds RetCode: 0 Status: OK CheckDir: DESpace.Rcheck Warnings: 0