Package: DESpace Version: 1.6.1 Command: /home/biocbuild/bbs-3.20-bioc/R/bin/R CMD build --keep-empty-dirs --no-resave-data --md5 DESpace StartedAt: 2025-03-31 17:00:39 -0400 (Mon, 31 Mar 2025) EndedAt: 2025-03-31 17:07:44 -0400 (Mon, 31 Mar 2025) EllapsedTime: 425.5 seconds RetCode: 0 Status: OK PackageFile: DESpace_1.6.1.tar.gz PackageFileSize: 3.556 MiB