Package: DESpace Version: 1.6.1 Command: /Library/Frameworks/R.framework/Resources/bin/R CMD build --keep-empty-dirs --no-resave-data DESpace StartedAt: 2025-03-31 22:25:06 -0400 (Mon, 31 Mar 2025) EndedAt: 2025-03-31 22:34:15 -0400 (Mon, 31 Mar 2025) EllapsedTime: 549.3 seconds RetCode: 0 Status: OK PackageFile: DESpace_1.6.1.tar.gz PackageFileSize: 5.768 MiB