Package: DESpace Version: 1.6.1 Command: rm -rf DESpace.buildbin-libdir && mkdir DESpace.buildbin-libdir && /Users/biocbuild/BBS/utils/build-universal.sh DESpace_1.6.1.tar.gz /Library/Frameworks/R.framework/Resources/bin/R DESpace.buildbin-libdir StartedAt: 2025-04-02 14:04:46 -0400 (Wed, 02 Apr 2025) EndedAt: 2025-04-02 14:05:21 -0400 (Wed, 02 Apr 2025) EllapsedTime: 35.0 seconds RetCode: 0 Status: OK PackageFile: DESpace_1.6.1.tgz PackageFileSize: 5.822 MiB