Package: DESeq2 Version: 1.46.0 Command: /Library/Frameworks/R.framework/Resources/bin/R CMD INSTALL DESeq2 StartedAt: 2025-03-31 15:25:45 -0400 (Mon, 31 Mar 2025) EndedAt: 2025-03-31 15:27:23 -0400 (Mon, 31 Mar 2025) EllapsedTime: 97.7 seconds RetCode: 0 Status: OK