Package: DESeq2 Version: 1.46.0 Command: /Library/Frameworks/R.framework/Resources/bin/R CMD check --install=check:DESeq2.install-out.txt --library=/Library/Frameworks/R.framework/Resources/library --no-vignettes --timings DESeq2_1.46.0.tar.gz StartedAt: 2025-04-01 02:02:52 -0400 (Tue, 01 Apr 2025) EndedAt: 2025-04-01 02:18:45 -0400 (Tue, 01 Apr 2025) EllapsedTime: 953.6 seconds RetCode: 0 Status: OK CheckDir: DESeq2.Rcheck Warnings: 0