Package: DESeq2 Version: 1.46.0 Command: rm -rf DESeq2.buildbin-libdir && mkdir DESeq2.buildbin-libdir && /Users/biocbuild/BBS/utils/build-universal.sh DESeq2_1.46.0.tar.gz /Library/Frameworks/R.framework/Resources/bin/R DESeq2.buildbin-libdir StartedAt: 2025-04-01 11:45:29 -0400 (Tue, 01 Apr 2025) EndedAt: 2025-04-01 11:47:15 -0400 (Tue, 01 Apr 2025) EllapsedTime: 106.0 seconds RetCode: 0 Status: OK PackageFile: DESeq2_1.46.0.tgz PackageFileSize: 3.926 MiB