Package: DEScan2 Version: 1.26.0 Command: F:\biocbuild\bbs-3.20-bioc\R\bin\R.exe CMD INSTALL DEScan2 StartedAt: 2025-03-31 16:46:37 -0400 (Mon, 31 Mar 2025) EndedAt: 2025-03-31 16:47:56 -0400 (Mon, 31 Mar 2025) EllapsedTime: 78.8 seconds RetCode: 0 Status: OK