Package: DEP Version: 1.28.0 Command: rm -rf DEP.buildbin-libdir && mkdir DEP.buildbin-libdir && /Users/biocbuild/BBS/utils/build-universal.sh DEP_1.28.0.tar.gz /Library/Frameworks/R.framework/Resources/bin/R DEP.buildbin-libdir StartedAt: 2025-04-02 14:03:48 -0400 (Wed, 02 Apr 2025) EndedAt: 2025-04-02 14:04:39 -0400 (Wed, 02 Apr 2025) EllapsedTime: 50.8 seconds RetCode: 0 Status: OK PackageFile: DEP_1.28.0.tgz PackageFileSize: 4.264 MiB