Package: DELocal Version: 1.6.0 Command: rm -rf DELocal.buildbin-libdir && mkdir DELocal.buildbin-libdir && F:\biocbuild\bbs-3.20-bioc\R\bin\R.exe CMD INSTALL --build --library=DELocal.buildbin-libdir DELocal_1.6.0.tar.gz StartedAt: 2025-04-01 08:03:31 -0400 (Tue, 01 Apr 2025) EndedAt: 2025-04-01 08:04:02 -0400 (Tue, 01 Apr 2025) EllapsedTime: 30.6 seconds RetCode: 0 Status: OK PackageFile: DELocal_1.6.0.zip PackageFileSize: 2.33 MiB