Package: DEGreport Version: 1.42.0 Command: /home/biocbuild/R/R/bin/R CMD build --keep-empty-dirs --no-resave-data DEGreport StartedAt: 2025-03-31 22:58:59 -0000 (Mon, 31 Mar 2025) EndedAt: 2025-03-31 23:00:35 -0000 (Mon, 31 Mar 2025) EllapsedTime: 96.0 seconds RetCode: 0 Status: OK PackageFile: DEGreport_1.42.0.tar.gz PackageFileSize: 18.85 MiB