Package: DEGreport Version: 1.42.0 Command: /home/biocbuild/bbs-3.20-bioc/R/bin/R CMD check --install=check:DEGreport.install-out.txt --library=/home/biocbuild/bbs-3.20-bioc/R/site-library --timings DEGreport_1.42.0.tar.gz StartedAt: 2025-03-31 21:26:48 -0400 (Mon, 31 Mar 2025) EndedAt: 2025-03-31 21:32:09 -0400 (Mon, 31 Mar 2025) EllapsedTime: 320.2 seconds RetCode: 0 Status: OK CheckDir: DEGreport.Rcheck Warnings: 0