Package: DEFormats Version: 1.34.0 Command: F:\biocbuild\bbs-3.20-bioc\R\bin\R.exe CMD check --no-multiarch --install=check:DEFormats.install-out.txt --library=F:\biocbuild\bbs-3.20-bioc\R\library --no-vignettes --timings DEFormats_1.34.0.tar.gz StartedAt: 2025-04-01 00:43:21 -0400 (Tue, 01 Apr 2025) EndedAt: 2025-04-01 00:46:50 -0400 (Tue, 01 Apr 2025) EllapsedTime: 209.0 seconds RetCode: 0 Status: OK CheckDir: DEFormats.Rcheck Warnings: 0