Package: DEFormats Version: 1.34.0 Command: rm -rf DEFormats.buildbin-libdir && mkdir DEFormats.buildbin-libdir && F:\biocbuild\bbs-3.20-bioc\R\bin\R.exe CMD INSTALL --build --library=DEFormats.buildbin-libdir DEFormats_1.34.0.tar.gz StartedAt: 2025-04-01 08:02:41 -0400 (Tue, 01 Apr 2025) EndedAt: 2025-04-01 08:03:21 -0400 (Tue, 01 Apr 2025) EllapsedTime: 40.0 seconds RetCode: 0 Status: OK PackageFile: DEFormats_1.34.0.zip PackageFileSize: 495.2 KiB