Package: DECIPHER Version: 3.2.0 Command: /Library/Frameworks/R.framework/Resources/bin/R CMD build --keep-empty-dirs --no-resave-data DECIPHER StartedAt: 2025-03-31 18:07:09 -0400 (Mon, 31 Mar 2025) EndedAt: 2025-03-31 18:41:05 -0400 (Mon, 31 Mar 2025) EllapsedTime: 2036.4 seconds RetCode: 0 Status: OK PackageFile: DECIPHER_3.2.0.tar.gz PackageFileSize: 16.79 MiB