Package: DART Version: 1.54.0 Command: /Library/Frameworks/R.framework/Resources/bin/R CMD INSTALL DART StartedAt: 2025-03-31 15:06:20 -0400 (Mon, 31 Mar 2025) EndedAt: 2025-03-31 15:06:35 -0400 (Mon, 31 Mar 2025) EllapsedTime: 15.3 seconds RetCode: 0 Status: OK