Package: DART Version: 1.54.0 Command: rm -rf DART.buildbin-libdir && mkdir DART.buildbin-libdir && /Users/biocbuild/BBS/utils/build-universal.sh DART_1.54.0.tar.gz /Library/Frameworks/R.framework/Resources/bin/R DART.buildbin-libdir StartedAt: 2025-04-01 11:43:20 -0400 (Tue, 01 Apr 2025) EndedAt: 2025-04-01 11:43:26 -0400 (Tue, 01 Apr 2025) EllapsedTime: 6.6 seconds RetCode: 0 Status: OK PackageFile: DART_1.54.0.tgz PackageFileSize: 2.028 MiB