Package: DAPAR Version: 1.38.0 Command: rm -rf DAPAR.buildbin-libdir && mkdir DAPAR.buildbin-libdir && F:\biocbuild\bbs-3.20-bioc\R\bin\R.exe CMD INSTALL --build --library=DAPAR.buildbin-libdir DAPAR_1.38.0.tar.gz StartedAt: 2025-04-01 08:01:39 -0400 (Tue, 01 Apr 2025) EndedAt: 2025-04-01 08:03:25 -0400 (Tue, 01 Apr 2025) EllapsedTime: 105.6 seconds RetCode: 0 Status: OK PackageFile: DAPAR_1.38.0.zip PackageFileSize: 715.3 KiB