Package: DAPAR Version: 1.38.0 Command: rm -rf DAPAR.buildbin-libdir && mkdir DAPAR.buildbin-libdir && /Users/biocbuild/BBS/utils/build-universal.sh DAPAR_1.38.0.tar.gz /Library/Frameworks/R.framework/Resources/bin/R DAPAR.buildbin-libdir StartedAt: 2025-04-01 11:43:09 -0400 (Tue, 01 Apr 2025) EndedAt: 2025-04-01 11:44:40 -0400 (Tue, 01 Apr 2025) EllapsedTime: 91.5 seconds RetCode: 0 Status: OK PackageFile: DAPAR_1.38.0.tgz PackageFileSize: 708.5 KiB