Package: DAPAR Version: 1.38.0 Command: /Library/Frameworks/R.framework/Resources/bin/R CMD build --keep-empty-dirs --no-resave-data DAPAR StartedAt: 2025-03-31 21:54:21 -0400 (Mon, 31 Mar 2025) EndedAt: 2025-03-31 21:54:23 -0400 (Mon, 31 Mar 2025) EllapsedTime: 2.3 seconds RetCode: 0 Status: OK PackageFile: DAPAR_1.38.0.tar.gz PackageFileSize: 150.4 KiB