Package: DAMEfinder Version: 1.18.0 Command: /home/biocbuild/R/R/bin/R CMD check --install=check:DAMEfinder.install-out.txt --library=/home/biocbuild/R/R/site-library --no-vignettes --timings DAMEfinder_1.18.0.tar.gz StartedAt: 2025-04-01 05:37:32 -0000 (Tue, 01 Apr 2025) EndedAt: 2025-04-01 05:44:03 -0000 (Tue, 01 Apr 2025) EllapsedTime: 390.4 seconds RetCode: 0 Status: OK CheckDir: DAMEfinder.Rcheck Warnings: 0