Package: DAMEfinder Version: 1.18.0 Command: F:\biocbuild\bbs-3.20-bioc\R\bin\R.exe CMD check --no-multiarch --install=check:DAMEfinder.install-out.txt --library=F:\biocbuild\bbs-3.20-bioc\R\library --no-vignettes --timings DAMEfinder_1.18.0.tar.gz StartedAt: 2025-04-01 00:37:57 -0400 (Tue, 01 Apr 2025) EndedAt: 2025-04-01 00:44:13 -0400 (Tue, 01 Apr 2025) EllapsedTime: 375.8 seconds RetCode: 0 Status: OK CheckDir: DAMEfinder.Rcheck Warnings: 0