Package: DAMEfinder Version: 1.18.0 Command: /home/biocbuild/bbs-3.20-bioc/R/bin/R CMD INSTALL DAMEfinder StartedAt: 2025-03-31 15:30:45 -0400 (Mon, 31 Mar 2025) EndedAt: 2025-03-31 15:31:12 -0400 (Mon, 31 Mar 2025) EllapsedTime: 26.9 seconds RetCode: 0 Status: OK