Package: DAMEfinder Version: 1.18.0 Command: /home/biocbuild/bbs-3.20-bioc/R/bin/R CMD check --install=check:DAMEfinder.install-out.txt --library=/home/biocbuild/bbs-3.20-bioc/R/site-library --timings DAMEfinder_1.18.0.tar.gz StartedAt: 2025-03-31 21:20:26 -0400 (Mon, 31 Mar 2025) EndedAt: 2025-03-31 21:26:48 -0400 (Mon, 31 Mar 2025) EllapsedTime: 382.4 seconds RetCode: 0 Status: OK CheckDir: DAMEfinder.Rcheck Warnings: 0