Package: DAMEfinder Version: 1.18.0 Command: rm -rf DAMEfinder.buildbin-libdir && mkdir DAMEfinder.buildbin-libdir && /Users/biocbuild/BBS/utils/build-universal.sh DAMEfinder_1.18.0.tar.gz /Library/Frameworks/R.framework/Resources/bin/R DAMEfinder.buildbin-libdir StartedAt: 2025-04-01 11:43:02 -0400 (Tue, 01 Apr 2025) EndedAt: 2025-04-01 11:44:05 -0400 (Tue, 01 Apr 2025) EllapsedTime: 62.3 seconds RetCode: 0 Status: OK PackageFile: DAMEfinder_1.18.0.tgz PackageFileSize: 5.046 MiB