Package: DAMEfinder Version: 1.18.0 Command: /Library/Frameworks/R.framework/Resources/bin/R CMD INSTALL DAMEfinder StartedAt: 2025-03-31 16:20:48 -0400 (Mon, 31 Mar 2025) EndedAt: 2025-03-31 16:21:20 -0400 (Mon, 31 Mar 2025) EllapsedTime: 31.7 seconds RetCode: 0 Status: OK