Package: CytoPipeline Version: 1.6.0 Command: /Library/Frameworks/R.framework/Resources/bin/R CMD INSTALL CytoPipeline StartedAt: 2025-03-31 16:46:14 -0400 (Mon, 31 Mar 2025) EndedAt: 2025-03-31 16:46:31 -0400 (Mon, 31 Mar 2025) EllapsedTime: 16.5 seconds RetCode: 0 Status: OK