Package: CytoPipeline Version: 1.6.0 Command: /Library/Frameworks/R.framework/Resources/bin/R CMD build --keep-empty-dirs --no-resave-data CytoPipeline StartedAt: 2025-03-31 21:50:48 -0400 (Mon, 31 Mar 2025) EndedAt: 2025-03-31 21:51:43 -0400 (Mon, 31 Mar 2025) EllapsedTime: 54.9 seconds RetCode: 0 Status: OK PackageFile: CytoPipeline_1.6.0.tar.gz PackageFileSize: 3.339 MiB