Package: CytoML Version: 2.18.3 Command: /Library/Frameworks/R.framework/Resources/bin/R CMD INSTALL CytoML StartedAt: 2025-03-31 15:37:55 -0400 (Mon, 31 Mar 2025) EndedAt: 2025-03-31 15:38:51 -0400 (Mon, 31 Mar 2025) EllapsedTime: 56.5 seconds RetCode: 0 Status: OK