Package: CytoMDS Version: 1.2.0 Command: chmod a+r CytoMDS -R && F:\biocbuild\bbs-3.20-bioc\R\bin\R.exe CMD build --keep-empty-dirs --no-resave-data CytoMDS StartedAt: 2025-03-31 18:18:03 -0400 (Mon, 31 Mar 2025) EndedAt: 2025-03-31 18:21:52 -0400 (Mon, 31 Mar 2025) EllapsedTime: 228.7 seconds RetCode: 0 Status: OK PackageFile: CytoMDS_1.2.0.tar.gz PackageFileSize: 2.684 MiB