Package: CytoMDS Version: 1.2.0 Command: /home/biocbuild/bbs-3.20-bioc/R/bin/R CMD INSTALL CytoMDS StartedAt: 2025-03-31 15:45:49 -0400 (Mon, 31 Mar 2025) EndedAt: 2025-03-31 15:46:02 -0400 (Mon, 31 Mar 2025) EllapsedTime: 13.4 seconds RetCode: 0 Status: OK