Package: CytoGLMM Version: 1.14.0 Command: /home/biocbuild/bbs-3.20-bioc/R/bin/R CMD check --install=check:CytoGLMM.install-out.txt --library=/home/biocbuild/bbs-3.20-bioc/R/site-library --timings CytoGLMM_1.14.0.tar.gz StartedAt: 2025-03-31 21:17:12 -0400 (Mon, 31 Mar 2025) EndedAt: 2025-03-31 21:20:41 -0400 (Mon, 31 Mar 2025) EllapsedTime: 209.3 seconds RetCode: 0 Status: OK CheckDir: CytoGLMM.Rcheck Warnings: 0