Package: CytoDx Version: 1.26.0 Command: rm -rf CytoDx.buildbin-libdir && mkdir CytoDx.buildbin-libdir && F:\biocbuild\bbs-3.20-bioc\R\bin\R.exe CMD INSTALL --build --library=CytoDx.buildbin-libdir CytoDx_1.26.0.tar.gz StartedAt: 2025-04-01 08:00:35 -0400 (Tue, 01 Apr 2025) EndedAt: 2025-04-01 08:00:53 -0400 (Tue, 01 Apr 2025) EllapsedTime: 18.6 seconds RetCode: 0 Status: OK PackageFile: CytoDx_1.26.0.zip PackageFileSize: 563.8 KiB