Package: CuratedAtlasQueryR Version: 1.4.0 Command: chmod a+r CuratedAtlasQueryR -R && F:\biocbuild\bbs-3.20-bioc\R\bin\R.exe CMD build --keep-empty-dirs --no-resave-data CuratedAtlasQueryR StartedAt: 2025-03-31 18:16:33 -0400 (Mon, 31 Mar 2025) EndedAt: 2025-03-31 18:19:07 -0400 (Mon, 31 Mar 2025) EllapsedTime: 153.6 seconds RetCode: 0 Status: OK PackageFile: CuratedAtlasQueryR_1.4.0.tar.gz PackageFileSize: 906.4 KiB