Package: CuratedAtlasQueryR Version: 1.4.0 Command: rm -rf CuratedAtlasQueryR.buildbin-libdir && mkdir CuratedAtlasQueryR.buildbin-libdir && /Users/biocbuild/BBS/utils/build-universal.sh CuratedAtlasQueryR_1.4.0.tar.gz /Library/Frameworks/R.framework/Resources/bin/R CuratedAtlasQueryR.buildbin-libdir StartedAt: 2025-04-02 13:57:20 -0400 (Wed, 02 Apr 2025) EndedAt: 2025-04-02 13:58:08 -0400 (Wed, 02 Apr 2025) EllapsedTime: 47.7 seconds RetCode: 0 Status: OK PackageFile: CuratedAtlasQueryR_1.4.0.tgz PackageFileSize: 1013 KiB