Package: CoverageView Version: 1.44.0 Command: /home/biocbuild/R/R/bin/R CMD INSTALL CoverageView StartedAt: 2025-03-31 20:36:01 -0000 (Mon, 31 Mar 2025) EndedAt: 2025-03-31 20:36:39 -0000 (Mon, 31 Mar 2025) EllapsedTime: 38.4 seconds RetCode: 0 Status: OK