Package: CopyNumberPlots Version: 1.22.0 Command: /home/biocbuild/bbs-3.20-bioc/R/bin/R CMD build --keep-empty-dirs --no-resave-data --md5 CopyNumberPlots StartedAt: 2025-03-31 16:48:00 -0400 (Mon, 31 Mar 2025) EndedAt: 2025-03-31 16:49:29 -0400 (Mon, 31 Mar 2025) EllapsedTime: 89.1 seconds RetCode: 0 Status: OK PackageFile: CopyNumberPlots_1.22.0.tar.gz PackageFileSize: 1.771 MiB