Package: CopyNumberPlots Version: 1.22.0 Command: /Library/Frameworks/R.framework/Resources/bin/R CMD build --keep-empty-dirs --no-resave-data CopyNumberPlots StartedAt: 2025-03-31 21:21:48 -0400 (Mon, 31 Mar 2025) EndedAt: 2025-03-31 21:23:37 -0400 (Mon, 31 Mar 2025) EllapsedTime: 109.2 seconds RetCode: 0 Status: OK PackageFile: CopyNumberPlots_1.22.0.tar.gz PackageFileSize: 2.911 MiB