Package: CopyNumberPlots Version: 1.22.0 Command: rm -rf CopyNumberPlots.buildbin-libdir && mkdir CopyNumberPlots.buildbin-libdir && /Users/biocbuild/BBS/utils/build-universal.sh CopyNumberPlots_1.22.0.tar.gz /Library/Frameworks/R.framework/Resources/bin/R CopyNumberPlots.buildbin-libdir StartedAt: 2025-04-02 13:52:14 -0400 (Wed, 02 Apr 2025) EndedAt: 2025-04-02 13:53:12 -0400 (Wed, 02 Apr 2025) EllapsedTime: 58.2 seconds RetCode: 0 Status: OK PackageFile: CopyNumberPlots_1.22.0.tgz PackageFileSize: 3.043 MiB