Package: CompoundDb Version: 1.10.0 Command: /home/biocbuild/R/R/bin/R CMD INSTALL CompoundDb StartedAt: 2025-03-31 21:04:26 -0000 (Mon, 31 Mar 2025) EndedAt: 2025-03-31 21:04:52 -0000 (Mon, 31 Mar 2025) EllapsedTime: 26.9 seconds RetCode: 0 Status: OK