Package: CompoundDb Version: 1.10.0 Command: /Library/Frameworks/R.framework/Resources/bin/R CMD build --keep-empty-dirs --no-resave-data CompoundDb StartedAt: 2025-03-31 17:52:14 -0400 (Mon, 31 Mar 2025) EndedAt: 2025-03-31 17:53:39 -0400 (Mon, 31 Mar 2025) EllapsedTime: 85.0 seconds RetCode: 0 Status: OK PackageFile: CompoundDb_1.10.0.tar.gz PackageFileSize: 1.299 MiB