Package: ComplexHeatmap Version: 2.22.0 Command: /Library/Frameworks/R.framework/Resources/bin/R CMD build --keep-empty-dirs --no-resave-data ComplexHeatmap StartedAt: 2025-03-31 21:15:20 -0400 (Mon, 31 Mar 2025) EndedAt: 2025-03-31 21:15:56 -0400 (Mon, 31 Mar 2025) EllapsedTime: 36.0 seconds RetCode: 0 Status: OK PackageFile: ComplexHeatmap_2.22.0.tar.gz PackageFileSize: 1.411 MiB