Package: ComplexHeatmap Version: 2.22.0 Command: rm -rf ComplexHeatmap.buildbin-libdir && mkdir ComplexHeatmap.buildbin-libdir && /Users/biocbuild/BBS/utils/build-universal.sh ComplexHeatmap_2.22.0.tar.gz /Library/Frameworks/R.framework/Resources/bin/R ComplexHeatmap.buildbin-libdir StartedAt: 2025-04-02 13:50:31 -0400 (Wed, 02 Apr 2025) EndedAt: 2025-04-02 13:50:58 -0400 (Wed, 02 Apr 2025) EllapsedTime: 27.4 seconds RetCode: 0 Status: OK PackageFile: ComplexHeatmap_2.22.0.tgz PackageFileSize: 3.01 MiB